BEGIN:VCALENDAR
VERSION:2.0
PRODID:-//La Cocinita M&aacute;gica
CALSCALE:GREGORIAN
METHOD:PUBLISH
X-WR-CALNAME:La Cocinita M&aacute;gica
X-ORIGINAL-URL:https://lacocinitamagica.com/product/taller-de-hamburguesas-gourmet-2026-28-marzo-1900h/
X-WR-CALDESC:Taller de Hamburguesas Gourmet &#8211; 2026 28 marzo 19:00h.
BEGIN:VEVENT
DTSTART;TZID=Europe/London:20260328T190000
DTEND;TZID=Europe/London:20260328T211500
SUMMARY:Taller de Hamburguesas Gourmet – 2026 28 marzo 19:00h.
DESCRIPTION:Con el taller de Hamburguesas Gourmet queremos que le des un toque especial a tus próximas hamburguesas, el "bocadillo" más famoso y apreciado del mundo. Realizaremos elaboraciones de alta cocina, y confeccionaremos tanto las hamburguesas como pan y complementos sorprendentes. Las recetas base, que degustarás tras la realización, serán: Hamburguesa de carne vacuno madurada. Hamburguesa de vegetales. Pan de hamburguesa, pan Brioche. Alioli especial, encurtidos, topping de manzana Tatín ...
URL:https://lacocinitamagica.com/product/taller-de-hamburguesas-gourmet-2026-28-marzo-1900h/
LOCATION:
END:VEVENT
END:VCALENDAR
