BEGIN:VCALENDAR
VERSION:2.0
PRODID:-//La Cocinita M&aacute;gica
CALSCALE:GREGORIAN
METHOD:PUBLISH
X-WR-CALNAME:La Cocinita M&aacute;gica
X-ORIGINAL-URL:https://lacocinitamagica.com/product/taller-de-street-food-asiatica-pollo-coreano-tempura-japonesa-cerdo-teriyaki-2026-21-marzo-1900-copia/
X-WR-CALDESC:Taller de street food asiática: pollo coreano, Tempura japonesa, cerdo Teriyaki  &#8211; 2026 21 marzo 19:00 (copia)
BEGIN:VEVENT
DTSTART;TZID=Europe/London:20260321T190000
DTEND;TZID=Europe/London:20260321T091500
SUMMARY:Taller de street food asiática: pollo coreano, Tempura japonesa, cerdo Teriyaki  – 2026 21 marzo 19:00 (copia)
DESCRIPTION:¿Te apetece callejear por Asia sin salir de la cocina? En este taller práctico nos adentraremos en el mundo del street food asiático, aprendiendo técnicas y recetas llenas de contraste, y descubriendo nuevos y exóticos ingredientes. Durante el taller elaboraremos: 🐔 Pollo coreano, crujiente y adictivo 🍤 Tempura,  todos los secretos de su masa y fritura 🐖 Cerdo teriyaki, jugoso y con el equilibrio justo entre dulce y salado La actividad está planteada como un taller participativo, en el que se explicará el proceso de elaboración de cada receta, así como claves para su correcta ejecución y presentación. Al finalizar, se degustarán los platos elaborados.
URL:https://lacocinitamagica.com/product/taller-de-street-food-asiatica-pollo-coreano-tempura-japonesa-cerdo-teriyaki-2026-21-marzo-1900-copia/
LOCATION:
END:VEVENT
END:VCALENDAR
