BEGIN:VCALENDAR
VERSION:2.0
PRODID:-//La Cocinita M&aacute;gica
CALSCALE:GREGORIAN
METHOD:PUBLISH
X-WR-CALNAME:La Cocinita M&aacute;gica
X-ORIGINAL-URL:https://lacocinitamagica.com/product/taller-de-cocina-mexicana-2026-20-marzo-2000h/
X-WR-CALDESC:Taller de cocina mexicana &#8211; 2026 20 marzo (20:00h.)
BEGIN:VEVENT
DTSTART;TZID=Europe/London:20260320T200000
DTEND;TZID=Europe/London:20260320T223000
SUMMARY:Taller de cocina mexicana – 2026 20 marzo (20:00h.)
DESCRIPTION:La cocina mexicana es una fiesta para los sentidos, por sus ingredientes, colores y elaboraciones. Los platos son "platillos", que se te "antojan", y los que vamos a enseñarte son de lo más apetecible. En el taller elaborarás y degustarás a la hora de la cena: Guacamole Pico de gallo Taco de cochinita pibil Taco de tinga de pollo ¡Ándale!.
URL:https://lacocinitamagica.com/product/taller-de-cocina-mexicana-2026-20-marzo-2000h/
LOCATION:
END:VEVENT
END:VCALENDAR
