BEGIN:VCALENDAR
VERSION:2.0
PRODID:-//La Cocinita M&aacute;gica
CALSCALE:GREGORIAN
METHOD:PUBLISH
X-WR-CALNAME:La Cocinita M&aacute;gica
X-ORIGINAL-URL:https://lacocinitamagica.com/product/taller-de-hamburguesas-gourmet-2026-06-marzo-2030/
X-WR-CALDESC:Taller de Hamburguesas Gourmet &#8211; 2026 06 marzo 20:30
BEGIN:VEVENT
DTSTART;TZID=Europe/London:20260306T203000
DTEND;TZID=Europe/London:20260306T224500
SUMMARY:Taller de Hamburguesas Gourmet – 2026 06 marzo 20:30
DESCRIPTION:Con el taller de Hamburguesas Gourmet queremos que le des un toque especial a tus próximas hamburguesas, el "bocadillo" más famoso y apreciado del mundo. Realizaremos elaboraciones de alta cocina, y confeccionaremos tanto las hamburguesas como pan y complementos sorprendentes. Las recetas base, que degustarás tras la realización, serán: Hamburguesa de carne vacuno madurada. Hamburguesa de vegetales. Pan de hamburguesa, pan Brioche. Alioli especial, encurtidos, topping de manzana Tatín ...
URL:https://lacocinitamagica.com/product/taller-de-hamburguesas-gourmet-2026-06-marzo-2030/
LOCATION:
END:VEVENT
END:VCALENDAR
