BEGIN:VCALENDAR
VERSION:2.0
PRODID:-//La Cocinita M&aacute;gica
CALSCALE:GREGORIAN
METHOD:PUBLISH
X-WR-CALNAME:La Cocinita M&aacute;gica
X-ORIGINAL-URL:https://lacocinitamagica.com/product/taller-de-roscon-de-reyes-2025-03-enero-1130-mediodia/
X-WR-CALDESC:Taller de Roscón de Reyes &#8211; 2025 03 enero 11:30 mediodía
BEGIN:VEVENT
DTSTART;TZID=Europe/London:20260103T113000
DTEND;TZID=Europe/London:20260103T134500
SUMMARY:Taller de Roscón de Reyes – 2025 03 enero 11:30 mediodía
DESCRIPTION:Qué mejor plan que aprender a elaborar tu propio Roscón de Reyes, con receta tradicional de masa madre, hornearlo y decorarlo con azúcar bolado que también elaboramos, nata montada, frutas escarchadas y no puede faltar una figurita para esconder. &nbsp;
URL:https://lacocinitamagica.com/product/taller-de-roscon-de-reyes-2025-03-enero-1130-mediodia/
LOCATION:
END:VEVENT
END:VCALENDAR
