BEGIN:VCALENDAR
VERSION:2.0
PRODID:-//La Cocinita M&aacute;gica
CALSCALE:GREGORIAN
METHOD:PUBLISH
X-WR-CALNAME:La Cocinita M&aacute;gica
X-ORIGINAL-URL:https://lacocinitamagica.com/product/taller-de-arroces-2025-27-diciembre-mediodia/
X-WR-CALDESC:Taller de arroces &#8211; 2025 27 diciembre (mediodía)
BEGIN:VEVENT
DTSTART;TZID=Europe/London:20251227T120000
DTEND;TZID=Europe/London:20251227T140000
SUMMARY:Taller de arroces – 2025 27 diciembre (mediodía)
DESCRIPTION:Consigue quitarte el miedo a preparar arroces con este taller, en el que llevaremos a cabo tres recetas, tres elaboraciones muy diferentes con las que aprenderás los trucos para rematar arroces deliciosos. Arroz de pato con alcachofas, judías verdes y garrofó. Risotto de carrilleras con cherrys y espinacas. Arroz frito de calamares con huevo y verduras.
URL:https://lacocinitamagica.com/product/taller-de-arroces-2025-27-diciembre-mediodia/
LOCATION:
END:VEVENT
END:VCALENDAR
