BEGIN:VCALENDAR
VERSION:2.0
PRODID:-//La Cocinita M&aacute;gica
CALSCALE:GREGORIAN
METHOD:PUBLISH
X-WR-CALNAME:La Cocinita M&aacute;gica
X-ORIGINAL-URL:https://lacocinitamagica.com/product/taller-de-aperitivos-de-navidad-2025-20-noviembre-mediodia/
X-WR-CALDESC:Taller de Aperitivos de Navidad &#8211; 2025 20 diciembre (mediodía)
BEGIN:VEVENT
DTSTART;TZID=Europe/London:20251220T120000
DTEND;TZID=Europe/London:20251220T140000
SUMMARY:Taller de Aperitivos de Navidad – 2025 20 diciembre (mediodía)
DESCRIPTION:Aprenderemos a preparar bocados originales, sabrosos y divertidos para sorprender en tus comidas y cenas de estas fiestas. Técnicas sencillas, ideas creativas y ese toque especial que convierte cada aperitivo en un pequeño alegría. Si quieres renovar tu mesa navideña, divertirte cocinando y llevarte un recetario lleno de inspiración, este taller es para ti. &nbsp;
URL:https://lacocinitamagica.com/product/taller-de-aperitivos-de-navidad-2025-20-noviembre-mediodia/
LOCATION:
END:VEVENT
END:VCALENDAR
