BEGIN:VCALENDAR
VERSION:2.0
PRODID:-//La Cocinita M&aacute;gica
CALSCALE:GREGORIAN
METHOD:PUBLISH
X-WR-CALNAME:La Cocinita M&aacute;gica
X-ORIGINAL-URL:https://lacocinitamagica.com/product/cata-y-cena-maridaje-vinos-de-la-sierra-de-salamanca-2025-18-octubre/
X-WR-CALDESC:Cata y cena maridaje vinos de la Sierra de Salamanca &#8211; 2025 18 octubre
BEGIN:VEVENT
DTSTART;TZID=Europe/London:20251018T210000
DTEND;TZID=Europe/London:20251018T230000
SUMMARY:Cata y cena maridaje vinos de la Sierra de Salamanca – 2025 18 octubre
DESCRIPTION:Cata de una selección de vinos elaborados en la Sierra de Salamanca: 1.- Dominio de la Sierra  (blanco). Bodega “Dominio de la Sierra” 2.- Ilusión (rosado). Bodega “El abuelo flores” 3.- Viñas serranas Miranda 2023 (tinto). Bodega “Viñas serranas” 4.- El Robledo Selección Especial 2020 (tinto). Bodegas y viñedos El Robledo. La cata va acompañada del maridaje con varios platos, una cena, especialmente elaborados en función de las notas de cada , y remataremos con un postre. Nuestras catas siempre se transforman en tertulia en la que compartir conocimientos y curiosidades, son un plan perfecto para el fin de semana.
URL:https://lacocinitamagica.com/product/cata-y-cena-maridaje-vinos-de-la-sierra-de-salamanca-2025-18-octubre/
LOCATION:
END:VEVENT
END:VCALENDAR
