BEGIN:VCALENDAR
VERSION:2.0
PRODID:-//La Cocinita M&aacute;gica
CALSCALE:GREGORIAN
METHOD:PUBLISH
X-WR-CALNAME:La Cocinita M&aacute;gica
X-ORIGINAL-URL:https://lacocinitamagica.com/product/taller-de-hornazo-2025-24-abril/
X-WR-CALDESC:Taller de Hornazo &#8211; 2025 24 abril
BEGIN:VEVENT
DTSTART;TZID=Europe/London:20250424T200000
DTEND;TZID=Europe/London:20250424T220000
SUMMARY:Taller de Hornazo – 2025 24 abril
DESCRIPTION:Aprovechando la cercanía del Lunes de Aguas, ¿qué mejor ocasión para que aprendas a elaborar y te lleves tu propio hornazo a casa?. Haremos una receta con todos los elementos, desde el amasado hasta la elaboración de la rejilla decorativa y horneado. ¡Feliz Lunes de Aguas!.
URL:https://lacocinitamagica.com/product/taller-de-hornazo-2025-24-abril/
LOCATION:
END:VEVENT
END:VCALENDAR
