BEGIN:VCALENDAR
VERSION:2.0
PRODID:-//La Cocinita M&aacute;gica
CALSCALE:GREGORIAN
METHOD:PUBLISH
X-WR-CALNAME:La Cocinita M&aacute;gica
X-ORIGINAL-URL:https://lacocinitamagica.com/product/taller-de-bolleria-2024-28-noviembre/
X-WR-CALDESC:Taller de Bollería &#8211; 2024 28 noviembre
BEGIN:VEVENT
DTSTART;TZID=Europe/London:20241128T200000
DTEND;TZID=Europe/London:20241128T220000
SUMMARY:Taller de Bollería – 2024 28 noviembre
DESCRIPTION:Taller en el que elaboraremos distintas piezas de bollería (Donuts, Berlinas, Bambas, Pepitos, Caracolas, Espirales), desde la masa hasta el horneado. También haremos diferentes coberturas (glasa, chocolate, brillo) y rellenos (nata y crema pastelera).
URL:https://lacocinitamagica.com/product/taller-de-bolleria-2024-28-noviembre/
LOCATION:
END:VEVENT
END:VCALENDAR
