BEGIN:VCALENDAR
VERSION:2.0
PRODID:-//La Cocinita M&aacute;gica
CALSCALE:GREGORIAN
METHOD:PUBLISH
X-WR-CALNAME:La Cocinita M&aacute;gica
X-ORIGINAL-URL:https://lacocinitamagica.com/product/cata-y-cena-maridaje-bodegas-castro-mendi-2024-16-noviembre/
X-WR-CALDESC:Cata y cena maridaje Bodegas Castro Mendi &#8211; 2024 16 noviembre
BEGIN:VEVENT
DTSTART;TZID=Europe/London:20241116T210000
DTEND;TZID=Europe/London:20241116T230000
SUMMARY:Cata y cena maridaje Bodegas Castro Mendi – 2024 16 noviembre
DESCRIPTION:A lo largo de la sesión se explicará tanto la elaboración como las especiales características y notas de cata de las 4 variedades de vino de la bodega, que tienen bastantes curiosidades. Gracias a la colaboración con Bodegas Luis Medina contaremos con uno de sus creadores, unos pequeños productores con vides situadas en Toro.  La cata va acompañada del maridaje con distintos platos, especialmente elaboradas para cada taller en función de las notas de cada vino, y remataremos con un postre. Nuestras catas siempre se transforman en tertulia en la que compartir conocimientos y curiosidades, son un plan perfecto para compartir solo o con amigos una mañana de fin de semana.
URL:https://lacocinitamagica.com/product/cata-y-cena-maridaje-bodegas-castro-mendi-2024-16-noviembre/
LOCATION:
END:VEVENT
END:VCALENDAR
