BEGIN:VCALENDAR
VERSION:2.0
PRODID:-//La Cocinita M&aacute;gica
CALSCALE:GREGORIAN
METHOD:PUBLISH
X-WR-CALNAME:La Cocinita M&aacute;gica
X-ORIGINAL-URL:https://lacocinitamagica.com/product/taller-de-cocina-china-2024-27-abril-mediodia/
X-WR-CALDESC:Taller de Cocina China &#8211; 2024 27 abril mediodía
BEGIN:VEVENT
DTSTART;TZID=Europe/London:20240427T120000
DTEND;TZID=Europe/London:20240427T140000
SUMMARY:Taller de Cocina China – 2024 27 abril mediodía
DESCRIPTION:Por fin nos hemos decidido a hacer un taller de cocina china, con algunas de nuestras recetas favoritas. La cocina china es conocida por todos, en especial en la versión adaptada a los ingredientes y gustos de nuestro país, pero queremos sorprenderte con ingredientes, texturas y sabores cercanos a la cocina china original. En este taller haremos y degustarás las siguientes recetas: - Berenjenas Sichuan - Pollo Kung Pao - Baozis - Arroz glutinoso
URL:https://lacocinitamagica.com/product/taller-de-cocina-china-2024-27-abril-mediodia/
LOCATION:
END:VEVENT
END:VCALENDAR
