BEGIN:VCALENDAR
VERSION:2.0
PRODID:-//La Cocinita M&aacute;gica
CALSCALE:GREGORIAN
METHOD:PUBLISH
X-WR-CALNAME:La Cocinita M&aacute;gica
X-ORIGINAL-URL:https://lacocinitamagica.com/product/cata-de-4-cervezas-y-cena-maridaje-paises-del-este-27-abril/
X-WR-CALDESC:Cata de 4 cervezas y cena maridaje &#8211; países del este &#8211; 27 abril
BEGIN:VEVENT
DTSTART;TZID=Europe/London:20240427T210000
DTEND;TZID=Europe/London:20240427T230000
SUMMARY:Cata de 4 cervezas y cena maridaje – países del este – 27 abril
DESCRIPTION:Con esta cata realizamos un viaje a las cervezas de Europa Central, de dos países productores con productos excepcionales de gran tradición: Alemania y Bélgica. Contaremos con 4 variedades de cerveza, y explicaremos tanto su elaboración como curiosidades y notas de cata. Cada una de las cervezas irá acompañada por un plato de nuestra elaboración, buscando el mejor maridaje, combinación entre bebida y comida, y rematando con un postre.
URL:https://lacocinitamagica.com/product/cata-de-4-cervezas-y-cena-maridaje-paises-del-este-27-abril/
LOCATION:
END:VEVENT
END:VCALENDAR
