BEGIN:VCALENDAR
VERSION:2.0
PRODID:-//La Cocinita M&aacute;gica
CALSCALE:GREGORIAN
METHOD:PUBLISH
X-WR-CALNAME:La Cocinita M&aacute;gica
X-ORIGINAL-URL:https://lacocinitamagica.com/product/cata-de-cervezas-artesanas-europeas-16-diciembre-23/
X-WR-CALDESC:Cata y cena maridaje de cervezas 1906 y Estrella de Navidad &#8211; 16 diciembre 23
BEGIN:VEVENT
DTSTART;TZID=Europe/London:20231216T210000
DTEND;TZID=Europe/London:20231216T230000
SUMMARY:Cata y cena maridaje de cervezas 1906 y Estrella de Navidad – 16 diciembre 23
DESCRIPTION:Aprovechando las fechas navideñas hemos querido organizar un cata en la que poder comparar las 4 variedades de cerveza 1906, además de contar con la cerveza especial de navidad, podrás descubrir 5 diferentes recetas y te explicaremos sus especialidades y elaboración. Cada una de las cervezas irá acompañada por un plato de nuestra elaboración, buscando el mejor maridaje, combinación entre bebida y comida, y rematando con un postre.
URL:https://lacocinitamagica.com/product/cata-de-cervezas-artesanas-europeas-16-diciembre-23/
LOCATION:
END:VEVENT
END:VCALENDAR
