BEGIN:VCALENDAR
VERSION:2.0
PRODID:-//La Cocinita M&aacute;gica
CALSCALE:GREGORIAN
METHOD:PUBLISH
X-WR-CALNAME:La Cocinita M&aacute;gica
X-ORIGINAL-URL:https://lacocinitamagica.com/product/cata-de-cervezas-artesanas-europeas-25-noviembre-23/
X-WR-CALDESC:Cata de cervezas artesanas europeas &#8211; 25 noviembre 23
BEGIN:VEVENT
DTSTART;TZID=Europe/London:20231125T210000
DTEND;TZID=Europe/London:20231125T230000
SUMMARY:Cata de cervezas artesanas europeas – 25 noviembre 23
DESCRIPTION:Aprovechando la celebración del September Fest hemos organizado una cata de cervezas artesanas en la que podrás descubrir 4 diferentes elaboraciones y te explicaremos sus diferencias y elaboración. Cada una de las cervezas irá acompañada por un plato de nuestra elaboración, buscando el mejor maridaje, combinación entre bebida y comida, y rematando con un postre.
URL:https://lacocinitamagica.com/product/cata-de-cervezas-artesanas-europeas-25-noviembre-23/
LOCATION:
END:VEVENT
END:VCALENDAR
