BEGIN:VCALENDAR
VERSION:2.0
PRODID:-//La Cocinita M&aacute;gica
CALSCALE:GREGORIAN
METHOD:PUBLISH
X-WR-CALNAME:La Cocinita M&aacute;gica
X-ORIGINAL-URL:https://lacocinitamagica.com/product/taller-de-cocinas-del-mundo-17-noviembre-23/
X-WR-CALDESC:Taller de cocinas del mundo &#8211; 17 noviembre 23
BEGIN:VEVENT
DTSTART;TZID=Europe/London:20231117T200000
DTEND;TZID=Europe/London:20231117T223000
SUMMARY:Taller de cocinas del mundo – 17 noviembre 23
DESCRIPTION:
URL:https://lacocinitamagica.com/product/taller-de-cocinas-del-mundo-17-noviembre-23/
LOCATION:
END:VEVENT
END:VCALENDAR
