BEGIN:VCALENDAR
VERSION:2.0
PRODID:-//La Cocinita M&aacute;gica
CALSCALE:GREGORIAN
METHOD:PUBLISH
X-WR-CALNAME:La Cocinita M&aacute;gica
X-ORIGINAL-URL:https://lacocinitamagica.com/product/showcooking-degustacion-jornada-de-setas-23-noviembre/
X-WR-CALDESC:Showcooking-Degustación Jornada de Setas &#8211; 23 noviembre
BEGIN:VEVENT
DTSTART;TZID=Europe/London:20231123T203000
DTEND;TZID=Europe/London:20231123T223000
SUMMARY:Showcooking-Degustación Jornada de Setas – 23 noviembre
DESCRIPTION:Evento donde haremos showcooking de diversas recetas con setas, además que tendremos con nosotros a la Presidenta de la Sociedad Micológica de Salamanca (Lazarillo), que nos contará curiosidades e información de las setas empleadas, así como de mundo micológico en general. Contaremos también con productos gourmet italianos gentileza de Casa Longini (Cta. Raqueta, 1, Bajo). - Tosta de setas salteadas con tomillo y queso de oveja de Arribes. - Pasta de Guisantes y habas (Bio) con salmón, setas y crema de yema curada en soja. - Manitas rellenas de Boletus con Salsa Hoisin y crocanti de nuez. - Requesón con membrillo, lemon curd y polvo de shiitake.
URL:https://lacocinitamagica.com/product/showcooking-degustacion-jornada-de-setas-23-noviembre/
LOCATION:
END:VEVENT
END:VCALENDAR
