BEGIN:VCALENDAR
VERSION:2.0
PRODID:-//La Cocinita M&aacute;gica
CALSCALE:GREGORIAN
METHOD:PUBLISH
X-WR-CALNAME:La Cocinita M&aacute;gica
X-ORIGINAL-URL:https://lacocinitamagica.com/product/taller-de-cocina-vegana-27-octubre/
X-WR-CALDESC:Taller de cocina vegana &#8211; 27 octubre &#8211; 19:00h
BEGIN:VEVENT
DTSTART;TZID=Europe/London:20231027T190000
DTEND;TZID=Europe/London:20231027T210000
SUMMARY:Taller de cocina vegana – 27 octubre – 19:00h
DESCRIPTION:Tanto si has oído hablar de la cocina vegana y quieres conocerla, como si ya practicas esa forma de vida y quieres incorporar nuevas recetas e ideas, en este taller aprenderás y elaborarás varias especialidades veganas: &nbsp; Berenjena con sirope de caña Hamburguesa de legumbres con mollete casero Tofu marinado Crema de tofu Pimiento relleno de tortilla española con salsa romescu El precio del taller incluye todos los elementos e ingredientes necesarios, además de bebida y material didáctico.
URL:https://lacocinitamagica.com/product/taller-de-cocina-vegana-27-octubre/
LOCATION:
END:VEVENT
END:VCALENDAR
