BEGIN:VCALENDAR
VERSION:2.0
PRODID:-//La Cocinita M&aacute;gica
CALSCALE:GREGORIAN
METHOD:PUBLISH
X-WR-CALNAME:La Cocinita M&aacute;gica
X-ORIGINAL-URL:https://lacocinitamagica.com/product/taller-de-bunuelos-26-octubre/
X-WR-CALDESC:Taller de buñuelos &#8211; 26 octubre
BEGIN:VEVENT
DTSTART;TZID=Europe/London:20231026T200000
DTEND;TZID=Europe/London:20231026T220000
SUMMARY:Taller de buñuelos – 26 octubre
DESCRIPTION:Ya se han dejado ver en las pastelerías, y este año no te vas a quedar con las ganas, podrás aprender a elaborar unos deliciosos buñuelos de viento con nosotros, y podrás repetir la receta en casa. Elaboraremos una masa ideal,  te explicaremos los secretos de la fritura (los buñuelos que "se dan la vuelta solos"), y los rellenarás de nata y crema. Podrás llevarte un cargamento de buñuelos.
URL:https://lacocinitamagica.com/product/taller-de-bunuelos-26-octubre/
LOCATION:
END:VEVENT
END:VCALENDAR
