BEGIN:VCALENDAR
VERSION:2.0
PRODID:-//La Cocinita M&aacute;gica
CALSCALE:GREGORIAN
METHOD:PUBLISH
X-WR-CALNAME:La Cocinita M&aacute;gica
X-ORIGINAL-URL:https://lacocinitamagica.com/product/taller-de-pizza-y-focaccia-14-septiembre-2030/
X-WR-CALDESC:Taller de pizza y focaccia &#8211; 14 septiembre 20:30
BEGIN:VEVENT
DTSTART;TZID=Europe/London:20230914T203000
DTEND;TZID=Europe/London:20230914T223000
SUMMARY:Taller de pizza y focaccia – 14 septiembre 20:30
DESCRIPTION:¡Mamma mía!. En este taller vas a aprender dos recetas estrella de la cocina italiana, e internacional. Haremos dos masas de pizza, además del delicioso pan focaccia, que acompañaremos con distintos ingredientes. Podrás degustar o llevarte a casa todo lo realizado. El precio del taller incluye material didáctico para repetir las recetas en casa.
URL:https://lacocinitamagica.com/product/taller-de-pizza-y-focaccia-14-septiembre-2030/
LOCATION:
END:VEVENT
END:VCALENDAR
