BEGIN:VCALENDAR
VERSION:2.0
PRODID:-//La Cocinita M&aacute;gica
CALSCALE:GREGORIAN
METHOD:PUBLISH
X-WR-CALNAME:La Cocinita M&aacute;gica
X-ORIGINAL-URL:https://lacocinitamagica.com/product/cata-y-cena-maridaje-de-vermuts-y-vino-locura-charra-testarudo-18-marzo/
X-WR-CALDESC:Cata y cena maridaje de vermuts y vino &#8211; Locura Charra / Testarudo &#8211; 18 marzo
BEGIN:VEVENT
DTSTART;TZID=Europe/London:20230318T210000
DTEND;TZID=Europe/London:20230318T230000
SUMMARY:Cata y cena maridaje de vermuts y vino – Locura Charra / Testarudo – 18 marzo
DESCRIPTION:El objetivo de este taller es ofrecer información de un producto tan apreciado como es el vermut, en este caso con la gama de vermuts artesanos de Bendita Locura, teniendo esta ocasión la especial ventaja de poder ofrecer en  el vino base con el que han sido elaborados, para que la experiencia sea todavía más didáctica. A lo largo de la sesión se explicará tanto la elaboración como las especiales características y notas de cata de cada uno de los vermuts que se ofrecerán, de una forma didáctica y participativa. Además ofreceremos la presentación del vino tinto Testarudo. La cata va acompañada del maridaje con distintos platos, especialmente elaboradas para cada taller en función de las notas de cada vermut, y remataremos con un postre. Degustaremos y analizaremos tres vermuts, uno blanco y dos rojos, además del vino base y su nuevo vino tinto. Nuestras catas siempre se transforman en tertulia en la que compartir conocimientos y curiosidades, son un plan perfecto para compartir solo o con amigos una mañana de fin de semana.
URL:https://lacocinitamagica.com/product/cata-y-cena-maridaje-de-vermuts-y-vino-locura-charra-testarudo-18-marzo/
LOCATION:
END:VEVENT
END:VCALENDAR
