BEGIN:VCALENDAR
VERSION:2.0
PRODID:-//La Cocinita M&aacute;gica
CALSCALE:GREGORIAN
METHOD:PUBLISH
X-WR-CALNAME:La Cocinita M&aacute;gica
X-ORIGINAL-URL:https://lacocinitamagica.com/product/taller-de-cocina-vegana-16-febrero/
X-WR-CALDESC:Taller de cocina vegana &#8211; 16 febrero
BEGIN:VEVENT
DTSTART;TZID=Europe/London:20230216T200000
DTEND;TZID=Europe/London:20230216T220000
SUMMARY:Taller de cocina vegana – 16 febrero
DESCRIPTION:Tanto si has oído hablar de la cocina vegana y quieres conocerla, como si ya practicas esa forma de vida y quieres incorporar nuevas recetas e ideas, en este taller aprenderás y elaborarás varias especialidades veganas: &nbsp; Berenjena con sirope de caña Hamburguesa de legumbres con mollete casero Tofu marinado Crema de tofu Pimiento relleno de tortilla española con salsa romescu El precio del taller incluye todos los elementos e ingredientes necesarios, además de bebida y material didáctico.
URL:https://lacocinitamagica.com/product/taller-de-cocina-vegana-16-febrero/
LOCATION:
END:VEVENT
END:VCALENDAR
