BEGIN:VCALENDAR
VERSION:2.0
PRODID:-//La Cocinita M&aacute;gica
CALSCALE:GREGORIAN
METHOD:PUBLISH
X-WR-CALNAME:La Cocinita M&aacute;gica
X-ORIGINAL-URL:https://lacocinitamagica.com/product/taller-de-helados-artesanos-16-julio-mediodia/
X-WR-CALDESC:Taller de helados artesanos &#8211; 16 julio mediodía
BEGIN:VEVENT
DTSTART;TZID=Europe/London:20220716T120000
DTEND;TZID=Europe/London:20220716T140000
SUMMARY:Taller de helados artesanos – 16 julio mediodía
DESCRIPTION:En este talle vas a aprender a hacer varias elaboraciones de helados. Contaremos con varias heladeras, de distintos precios, incluyendo una heladera económicas, para que compares los resultados. También aprenderás las bases de los distintos helados: azúcar invertido, leche merengada y praliné, con sus respectivas recetas. Una delicia de taller en el que igualmente disfrutarás de lo elaborado. &nbsp;
URL:https://lacocinitamagica.com/product/taller-de-helados-artesanos-16-julio-mediodia/
LOCATION:
END:VEVENT
END:VCALENDAR
