BEGIN:VCALENDAR
VERSION:2.0
PRODID:-//La Cocinita M&aacute;gica
CALSCALE:GREGORIAN
METHOD:PUBLISH
X-WR-CALNAME:La Cocinita M&aacute;gica
X-ORIGINAL-URL:https://lacocinitamagica.com/product/taller-de-street-food-asiatica-9-julio-mediodia/
X-WR-CALDESC:Taller de street food asiática &#8211; 9 julio (mediodía)
BEGIN:VEVENT
DTSTART;TZID=Europe/London:20220709T120000
DTEND;TZID=Europe/London:20220709T143000
SUMMARY:Taller de street food asiática – 9 julio (mediodía)
DESCRIPTION:Viaja con nosotros y callejea por los sabores de la cultura asiática. Elaboraremos deliciosos panes chinos Bao, con tres recetas diferentes (tradicional, de algas, negro), y además tres recetas japonesas y coreanas que tienen entidad propia pero podremos usar como relleno. Panes Bao (tracicional y otras variedades). Rellenos de: - Pollo frito Coreano - Mechado de Teriyaki - Char Siu
URL:https://lacocinitamagica.com/product/taller-de-street-food-asiatica-9-julio-mediodia/
LOCATION:
END:VEVENT
END:VCALENDAR
