BEGIN:VCALENDAR
VERSION:2.0
PRODID:-//La Cocinita M&aacute;gica
CALSCALE:GREGORIAN
METHOD:PUBLISH
X-WR-CALNAME:La Cocinita M&aacute;gica
X-ORIGINAL-URL:https://lacocinitamagica.com/product/taller-de-panes-basico-brioche-viena-masa-madre-9-junio/
X-WR-CALDESC:Taller de panes (básico, brioche, Viena, masa madre) &#8211; 9 junio
BEGIN:VEVENT
DTSTART;TZID=Europe/London:20220609T200000
DTEND;TZID=Europe/London:20220609T223000
SUMMARY:Taller de panes (básico, brioche, Viena, masa madre) – 9 junio
DESCRIPTION:Para los que buscan una introducción al apasionante mundo del pan, el objetivo de este taller es aprender a hacer pan artesano, natural y casero, que podrás repetir perfectamente en tu casa, además de llevarte lo elaborado. En este taller se disfruta con los cinco sentidos en todas las fases de elaboración del pan: Elección y mezcla de ingredientes Amasados y boleados Fermentaciones Horneados En este taller exprés, que podemos realizar en una única tarde, elaboraremos tres recetas: Brioche Pan básico Panecillos de Viena Masa madre Cumpliremos todas las indicaciones y limitaciones sanitarias, además de contar con nuestro sistema de ventilación por aerotermia durante el transcurso del taller. El precio del taller incluye todos los elementos e ingredientes necesarios, además de bebida y material didáctico.
URL:https://lacocinitamagica.com/product/taller-de-panes-basico-brioche-viena-masa-madre-9-junio/
LOCATION:
END:VEVENT
END:VCALENDAR
