BEGIN:VCALENDAR
VERSION:2.0
PRODID:-//La Cocinita M&aacute;gica
CALSCALE:GREGORIAN
METHOD:PUBLISH
X-WR-CALNAME:La Cocinita M&aacute;gica
X-ORIGINAL-URL:https://lacocinitamagica.com/product/cata-de-sake-y-cena-maridaje-3-de-junio/
X-WR-CALDESC:Cata de sake y cena maridaje &#8211; 3 de junio
BEGIN:VEVENT
DTSTART;TZID=Europe/London:20220603T210000
DTEND;TZID=Europe/London:20220603T230000
SUMMARY:Cata de sake y cena maridaje – 3 de junio
DESCRIPTION:En esta cata contaremos con una especialista que os explicará esta bebida asiática tan especial, desde su elaboración, curiosidades, notas de cata y  singularidades. Podrás distinguir distintas variedades de sake, incluyendo un espumoso. Queremos que el evento sea muy especial, y elaboraremos una cena de maridaje acorde con la ocasión, con platos de especialidades japonesas. &nbsp;
URL:https://lacocinitamagica.com/product/cata-de-sake-y-cena-maridaje-3-de-junio/
LOCATION:
END:VEVENT
END:VCALENDAR
