BEGIN:VCALENDAR
VERSION:2.0
PRODID:-//La Cocinita M&aacute;gica
CALSCALE:GREGORIAN
METHOD:PUBLISH
X-WR-CALNAME:La Cocinita M&aacute;gica
X-ORIGINAL-URL:https://lacocinitamagica.com/product/cata-de-cervezas-artesanas-la-cueva-del-lupulo-7-mayo/
X-WR-CALDESC:Cata de cervezas artesanas &#8211; La Cueva del Lúpulo &#8211; 7 mayo
BEGIN:VEVENT
DTSTART;TZID=Europe/London:20220507T210000
DTEND;TZID=Europe/London:20220507T230000
SUMMARY:Cata de cervezas artesanas – La Cueva del Lúpulo – 7 mayo
DESCRIPTION:Con esta cata realizamos una colaboración con La Cueva del Lúpulo, especialistas en cervezas artesanas que han elegido entre su catálogo varias cervezas muy representativas e interesantes para realizar una comparativa. Será una cata guiada en la que descubrir muchas curiosidades del apasionante mundo de la cerveza artesana. Cada una de las cervezas irá acompañada por un plato de nuestra elaboración, buscando el mejor maridaje, combinación entre bebida y comida, y rematando con un postre: CERVEZA - VARIEDAD: Andechs - Maibock Gulden Draak - Belgian Strong Ale Schneider Weisse - Hopfenweisse Weizen Doppelbock Korbinian - Doppelbock
URL:https://lacocinitamagica.com/product/cata-de-cervezas-artesanas-la-cueva-del-lupulo-7-mayo/
LOCATION:
END:VEVENT
END:VCALENDAR
