BEGIN:VCALENDAR
VERSION:2.0
PRODID:-//La Cocinita M&aacute;gica
CALSCALE:GREGORIAN
METHOD:PUBLISH
X-WR-CALNAME:La Cocinita M&aacute;gica
X-ORIGINAL-URL:https://lacocinitamagica.com/product/taller-de-chocolates-bombones-7-abril/
X-WR-CALDESC:Taller de chocolates. Bombones &#8211; 7 abril
BEGIN:VEVENT
DTSTART;TZID=Europe/London:20220407T200000
DTEND;TZID=Europe/London:20220407T220000
SUMMARY:Taller de chocolates. Bombones – 7 abril
DESCRIPTION:El chocolate es todo un placer para los sentidos, es un ingrediente con unas cualidades especiales y que permite todo tipo de elaboraciones, por eso le estamos dedicando hasta 3 talleres con diferentes recetas. En los distintos talleres de chocolates aprenderás con nosotros como fundirlo, temperarlo, en definitiva manejarlo para extraer sus distintas cualidades. En este tercer taller elaboraremos varias variedades de bombón, con sus encamisados y rellenos, además del chocolate crujiente salado. Bombón ferrero Bombón praliné Bombón 3 chocolates chocolate crujiente salado
URL:https://lacocinitamagica.com/product/taller-de-chocolates-bombones-7-abril/
LOCATION:
END:VEVENT
END:VCALENDAR
