BEGIN:VCALENDAR
VERSION:2.0
PRODID:-//La Cocinita M&aacute;gica
CALSCALE:GREGORIAN
METHOD:PUBLISH
X-WR-CALNAME:La Cocinita M&aacute;gica
X-ORIGINAL-URL:https://lacocinitamagica.com/product/cata-de-cervezas-artesanas-la-cueva-del-lupulo-12-febrero/
X-WR-CALDESC:Cata de cervezas artesanas &#8211; La Cueva del Lúpulo &#8211; 12 febrero
BEGIN:VEVENT
DTSTART;TZID=Europe/London:20220212T210000
DTEND;TZID=Europe/London:20220212T230000
SUMMARY:Cata de cervezas artesanas – La Cueva del Lúpulo – 12 febrero
DESCRIPTION:Con esta cata realizamos una colaboración con La Cueva del Lúpulo, especialistas en cervezas artesanas que han elegido entre su catálogo varias cervezas muy representativas de las variedades a las que pertenecen. Será una cata guiada en la que descubrir muchas curiosidades del apasionante mundo de la cerveza artesana. Cada una de las cervezas irá acompañada por un plato de nuestra elaboración, buscando el mejor maridaje, combinación entre bebida y comida, y rematando con un postre. - St. Bernardus 12 (Abadía) - Schneider Weisse Tap 6 Mein Aventinus (trigo doppelbock) - Schenider Aventinus (Doppelbock) - La Chouffe (Strong Ale Belga)
URL:https://lacocinitamagica.com/product/cata-de-cervezas-artesanas-la-cueva-del-lupulo-12-febrero/
LOCATION:
END:VEVENT
END:VCALENDAR
