BEGIN:VCALENDAR
VERSION:2.0
PRODID:-//La Cocinita M&aacute;gica
CALSCALE:GREGORIAN
METHOD:PUBLISH
X-WR-CALNAME:La Cocinita M&aacute;gica
X-ORIGINAL-URL:https://lacocinitamagica.com/product/taller-de-arroces-9-octubre/
X-WR-CALDESC:Taller de arroces &#8211; 9 octubre
BEGIN:VEVENT
DTSTART;TZID=Europe/London:20211009T200000
DTEND;TZID=Europe/London:20211009T221500
SUMMARY:Taller de arroces – 9 octubre
DESCRIPTION:Consigue quitarte el miedo a preparar arroces con este taller, en el que elaboraremos dos recetas con las que aprenderás los trucos para rematar arroces deliciosos Risotto de setas: el clásico plato italiano de arroz meloso. Arroz "del señorito": con la base de los arroces de la Comunidad Valenciana, esta variante es muy apreciada.
URL:https://lacocinitamagica.com/product/taller-de-arroces-9-octubre/
LOCATION:
END:VEVENT
END:VCALENDAR
