BEGIN:VCALENDAR
VERSION:2.0
PRODID:-//La Cocinita M&aacute;gica
CALSCALE:GREGORIAN
METHOD:PUBLISH
X-WR-CALNAME:La Cocinita M&aacute;gica
X-ORIGINAL-URL:https://lacocinitamagica.com/product/vacaciones/
X-WR-CALDESC:Vacaciones
BEGIN:VEVENT
DTSTART;TZID=Europe/London:20210815T000000
DTEND;TZID=Europe/London:20210826T000000
SUMMARY:Vacaciones
DESCRIPTION:
URL:https://lacocinitamagica.com/product/vacaciones/
LOCATION:
END:VEVENT
END:VCALENDAR
