BEGIN:VCALENDAR
VERSION:2.0
PRODID:-//La Cocinita M&aacute;gica
CALSCALE:GREGORIAN
METHOD:PUBLISH
X-WR-CALNAME:La Cocinita M&aacute;gica
X-ORIGINAL-URL:https://lacocinitamagica.com/product/taller-expres-de-pan-26-mayo/
X-WR-CALDESC:Taller exprés de pan &#8211; 26 mayo
BEGIN:VEVENT
DTSTART;TZID=Europe/London:20210526T190000
DTEND;TZID=Europe/London:20210526T210000
SUMMARY:Taller exprés de pan – 26 mayo
DESCRIPTION:Para los que buscan una introducción al apasionante mundo del pan, el objetivo de este taller es aprender a hacer pan artesano, natural y casero, que podrás repetir perfectamente en tu casa, además de llevarte lo elaborado. En este taller se disfruta con los cinco sentidos en todas las fases de elaboración del pan: Elección y mezcla de ingredientes Amasados y boleados Fermentaciones Horneados En este taller exprés, que podemos realizar en una única tarde, elaboraremos tres recetas: Masa madre Pan básico Panecillos de Viena Cumpliremos todas las indicaciones y limitaciones sanitarias, además de contar con nuestro sistema de ventilación por aerotermia durante el transcurso del taller. El precio del taller incluye todos los elementos e ingredientes necesarios, además de bebida y material didáctico.
URL:https://lacocinitamagica.com/product/taller-expres-de-pan-26-mayo/
LOCATION:
END:VEVENT
END:VCALENDAR
