BEGIN:VCALENDAR
VERSION:2.0
PRODID:-//La Cocinita M&aacute;gica
CALSCALE:GREGORIAN
METHOD:PUBLISH
X-WR-CALNAME:La Cocinita M&aacute;gica
X-ORIGINAL-URL:https://lacocinitamagica.com/product/taller-de-tapas-creativas-sabado-8-mayo/
X-WR-CALDESC:Taller de tapas creativas &#8211; 8 mayo
BEGIN:VEVENT
DTSTART;TZID=Europe/London:20210508T190000
DTEND;TZID=Europe/London:20210508T210000
SUMMARY:Taller de tapas creativas – 8 mayo
DESCRIPTION:Taller de tapas creativas. Tenemos mucha tradición y variedad, además del arraigo cultural, en compartir esos platillos con amigos y familiares, y con este taller queremos dar un paso más allá, que puedas ofrecerlos en tu casa a modo de aperitivo. Aprenderás a realizar 4 recetas de tapas sorprendentes, que serán pequeños “bocados de autor”: Tosta de foie con manzana tatín Falsa concha de mejillón con frutos del mar Brocheta satay de pollo Hummus de aguacate. El precio del taller incluye todos los elementos e ingredientes necesarios, además de bebida y material didáctico.
URL:https://lacocinitamagica.com/product/taller-de-tapas-creativas-sabado-8-mayo/
LOCATION:
END:VEVENT
END:VCALENDAR
