BEGIN:VCALENDAR
VERSION:2.0
PRODID:-//La Cocinita M&aacute;gica
CALSCALE:GREGORIAN
METHOD:PUBLISH
X-WR-CALNAME:La Cocinita M&aacute;gica
X-ORIGINAL-URL:https://lacocinitamagica.com/product/cata-de-vino-bodegas-portia-1-abril/
X-WR-CALDESC:Cata de vino: Bodegas Portia &#8211; 1 abril
BEGIN:VEVENT
DTSTART;TZID=Europe/London:20210401T190000
DTEND;TZID=Europe/London:20210401T090000
SUMMARY:Cata de vino: Bodegas Portia – 1 abril
DESCRIPTION:En esta cata daremos a conocer 4 variedades de las prestigiosas Bodegas Portia, contando con una enóloga que nos explicará las peculiaridades de la casa y sus productos. Acompañaremos el vino con recetas especialmente elaboradas para la ocasión, buscando el maridaje entre platos y bebida: Verdejo Prima Crianza Triennia &nbsp;
URL:https://lacocinitamagica.com/product/cata-de-vino-bodegas-portia-1-abril/
LOCATION:
END:VEVENT
END:VCALENDAR
