BEGIN:VCALENDAR
VERSION:2.0
PRODID:-//La Cocinita M&aacute;gica
CALSCALE:GREGORIAN
METHOD:PUBLISH
X-WR-CALNAME:La Cocinita M&aacute;gica
X-ORIGINAL-URL:https://lacocinitamagica.com/product/taller-de-cocinas-del-mundo-3-abril/
X-WR-CALDESC:Taller de cocinas del mundo &#8211; 3 abril
BEGIN:VEVENT
DTSTART;TZID=Europe/London:20210403T190000
DTEND;TZID=Europe/London:20210403T211500
SUMMARY:Taller de cocinas del mundo – 3 abril
DESCRIPTION:
URL:https://lacocinitamagica.com/product/taller-de-cocinas-del-mundo-3-abril/
LOCATION:
END:VEVENT
END:VCALENDAR
