BEGIN:VCALENDAR
VERSION:2.0
PRODID:-//La Cocinita M&aacute;gica
CALSCALE:GREGORIAN
METHOD:PUBLISH
X-WR-CALNAME:La Cocinita M&aacute;gica
X-ORIGINAL-URL:https://lacocinitamagica.com/product/taller-de-torrijas-7-marzo/
X-WR-CALDESC:Taller de torrijas &#8211; 7 marzo
BEGIN:VEVENT
DTSTART;TZID=Europe/London:20210307T190000
DTEND;TZID=Europe/London:20210307T210000
SUMMARY:Taller de torrijas – 7 marzo
DESCRIPTION:Un postre que, sin duda, no puede faltar en nuestra mesa, y que acompaña con esta temporada del año, son las conocidas y deliciosas torrijas. En nuestro taller elaboraremos varias recetas, y podrás llevarte lo realizado, además de material didáctico para repetirlas en casa. Es un taller muy divertido y colaborativo. Realizaremos: Torrija de leche, la clásica Torrija innovadora, una torrija vegana Torrija con crema inglesa, una sorprendente variante que te va a encantar
URL:https://lacocinitamagica.com/product/taller-de-torrijas-7-marzo/
LOCATION:
END:VEVENT
END:VCALENDAR
