BEGIN:VCALENDAR
VERSION:2.0
PRODID:-//La Cocinita M&aacute;gica
CALSCALE:GREGORIAN
METHOD:PUBLISH
X-WR-CALNAME:La Cocinita M&aacute;gica
X-ORIGINAL-URL:https://lacocinitamagica.com/product/taller-de-cocina-innovadora-5-marzo-copia/
X-WR-CALDESC:Taller de cocina innovadora &#8211; 5 marzo
BEGIN:VEVENT
DTSTART;TZID=Europe/London:20210305T190000
DTEND;TZID=Europe/London:20210305T210000
SUMMARY:Taller de cocina innovadora – 5 marzo
DESCRIPTION:El objetivo de este taller es iniciarte en nuevos procesos de cocinado, con especial atención a la cocina molecular. Aprovecharemos las propiedades de los ingredientes, pero sometiéndolos a procesos que alteran sus propiedades fisicoquímicas:  Esferificación de aceituna con anchoa Salmón a baja temperatura marinado, bizcocho de tinta y caviar de soja  Espuma de crema catalana con crumble de frutas El precio del taller incluye todos los elementos e ingredientes necesarios, además de bebida y material didáctico.
URL:https://lacocinitamagica.com/product/taller-de-cocina-innovadora-5-marzo-copia/
LOCATION:
END:VEVENT
END:VCALENDAR
