BEGIN:VCALENDAR
VERSION:2.0
PRODID:-//La Cocinita M&aacute;gica
CALSCALE:GREGORIAN
METHOD:PUBLISH
X-WR-CALNAME:La Cocinita M&aacute;gica
X-ORIGINAL-URL:https://lacocinitamagica.com/product/taller-de-recetas-con-estrella-michelin-20-febrero/
X-WR-CALDESC:Taller de recetas con Estrella Michelín &#8211; 20 febrero
BEGIN:VEVENT
DTSTART;TZID=Europe/London:20210220T180000
DTEND;TZID=Europe/London:20210220T200000
SUMMARY:Taller de recetas con Estrella Michelín – 20 febrero
DESCRIPTION:Un taller para los más cocinitas en el que elaboraremos un menú de tres platos, homenajeando a prestigiosos restaurantes con estrella Michelín. Son recetas sofisticadas que hemos adaptado para que se puedan replicar en una cocina convencional, perfectas para desarrollar las habilidades gastronómicas y aprender nuevas elaboraciones, para sorprender en casa en alguna ocasión especial. Cubalibre de foie gras (Quique Dacosta) Patatas bravas de Sergi Arola Pato confitado con pera y puerro (Arzak) El precio del taller incluye todos los elementos e ingredientes precisos, así como materiales didácticos.
URL:https://lacocinitamagica.com/product/taller-de-recetas-con-estrella-michelin-20-febrero/
LOCATION:
END:VEVENT
END:VCALENDAR
