BEGIN:VCALENDAR
VERSION:2.0
PRODID:-//La Cocinita M&aacute;gica
CALSCALE:GREGORIAN
METHOD:PUBLISH
X-WR-CALNAME:La Cocinita M&aacute;gica
X-ORIGINAL-URL:https://lacocinitamagica.com/product/taller-de-cocina-innovadora-sabado-6/
X-WR-CALDESC:Taller de cocina innovadora &#8211; sábado 6
BEGIN:VEVENT
DTSTART;TZID=Europe/London:20210206T170000
DTEND;TZID=Europe/London:20210206T191500
SUMMARY:Taller de cocina innovadora – sábado 6
DESCRIPTION:El objetivo de este taller es iniciarte en nuevos procesos de cocinado, con especial atención a la cocina molecular. Aprovecharemos las propiedades de los ingredientes, pero sometiéndolos a procesos que alteran sus propiedades fisicoquímicas:  Esferificación de aceituna con anchoa Salmón a baja temperatura marinado, con bizcocho de sifón de tinta y caviar de soja  Carrillera con gominola de pedro ximénez El precio del taller incluye todos los elementos e ingredientes necesarios, además de bebida y material didáctico.
URL:https://lacocinitamagica.com/product/taller-de-cocina-innovadora-sabado-6/
LOCATION:
END:VEVENT
END:VCALENDAR
